Package: TOP Version: 1.0.0 Command: /Library/Frameworks/R.framework/Resources/bin/R CMD check --install=check:TOP.install-out.txt --library=/Library/Frameworks/R.framework/Resources/library --no-vignettes --timings TOP_1.0.0.tar.gz StartedAt: 2023-10-16 08:07:23 -0400 (Mon, 16 Oct 2023) EndedAt: 2023-10-16 08:15:53 -0400 (Mon, 16 Oct 2023) EllapsedTime: 510.4 seconds RetCode: 0 Status: OK CheckDir: TOP.Rcheck Warnings: 0