Package: TOP Version: 1.0.0 Command: /Library/Frameworks/R.framework/Resources/bin/R CMD build --keep-empty-dirs --no-resave-data TOP StartedAt: 2023-10-15 21:55:36 -0400 (Sun, 15 Oct 2023) EndedAt: 2023-10-15 21:58:14 -0400 (Sun, 15 Oct 2023) EllapsedTime: 158.1 seconds RetCode: 0 Status: OK PackageFile: TOP_1.0.0.tar.gz PackageFileSize: 471.5 KiB