Package: TOAST Version: 1.14.0 Command: rm -rf TOAST.buildbin-libdir && mkdir TOAST.buildbin-libdir && F:\biocbuild\bbs-3.17-bioc\R\bin\R.exe CMD INSTALL --build --library=TOAST.buildbin-libdir TOAST_1.14.0.tar.gz StartedAt: 2023-10-16 09:39:47 -0400 (Mon, 16 Oct 2023) EndedAt: 2023-10-16 09:40:21 -0400 (Mon, 16 Oct 2023) EllapsedTime: 33.2 seconds RetCode: 0 Status: OK PackageFile: TOAST_1.14.0.zip PackageFileSize: 3.47 MiB