Package: TFEA.ChIP Version: 1.20.0 Command: F:\biocbuild\bbs-3.17-bioc\R\bin\R.exe CMD INSTALL TFEA.ChIP StartedAt: 2023-10-15 16:24:09 -0400 (Sun, 15 Oct 2023) EndedAt: 2023-10-15 16:24:50 -0400 (Sun, 15 Oct 2023) EllapsedTime: 40.5 seconds RetCode: 0 Status: OK