Package: TFEA.ChIP Version: 1.20.0 Command: rm -rf TFEA.ChIP.buildbin-libdir && mkdir TFEA.ChIP.buildbin-libdir && F:\biocbuild\bbs-3.17-bioc\R\bin\R.exe CMD INSTALL --build --library=TFEA.ChIP.buildbin-libdir TFEA.ChIP_1.20.0.tar.gz StartedAt: 2023-10-16 09:39:00 -0400 (Mon, 16 Oct 2023) EndedAt: 2023-10-16 09:39:42 -0400 (Mon, 16 Oct 2023) EllapsedTime: 42.1 seconds RetCode: 0 Status: OK PackageFile: TFEA.ChIP_1.20.0.zip PackageFileSize: 5.208 MiB