Package: TFEA.ChIP Version: 1.20.0 Command: /home/biocbuild/bbs-3.17-bioc/R/bin/R CMD check --install=check:TFEA.ChIP.install-out.txt --library=/home/biocbuild/bbs-3.17-bioc/R/site-library --timings TFEA.ChIP_1.20.0.tar.gz StartedAt: 2023-10-16 01:43:48 -0400 (Mon, 16 Oct 2023) EndedAt: 2023-10-16 01:50:26 -0400 (Mon, 16 Oct 2023) EllapsedTime: 398.1 seconds RetCode: 0 Status: OK CheckDir: TFEA.ChIP.Rcheck Warnings: 0