Package: TFEA.ChIP Version: 1.20.0 Command: /home/biocbuild/bbs-3.17-bioc/R/bin/R CMD build --keep-empty-dirs --no-resave-data TFEA.ChIP StartedAt: 2023-10-15 18:47:53 -0400 (Sun, 15 Oct 2023) EndedAt: 2023-10-15 18:49:12 -0400 (Sun, 15 Oct 2023) EllapsedTime: 79.4 seconds RetCode: 0 Status: OK PackageFile: TFEA.ChIP_1.20.0.tar.gz PackageFileSize: 5.252 MiB