Package: TFBSTools Version: 1.38.0 Command: /home/biocbuild/bbs-3.17-bioc/R/bin/R CMD INSTALL TFBSTools StartedAt: 2023-10-15 15:21:53 -0400 (Sun, 15 Oct 2023) EndedAt: 2023-10-15 15:22:42 -0400 (Sun, 15 Oct 2023) EllapsedTime: 48.9 seconds RetCode: 0 Status: OK