Package: TDbasedUFEadv Version: 1.0.0 Command: F:\biocbuild\bbs-3.17-bioc\R\bin\R.exe CMD INSTALL TDbasedUFEadv StartedAt: 2023-10-15 16:58:39 -0400 (Sun, 15 Oct 2023) EndedAt: 2023-10-15 16:59:12 -0400 (Sun, 15 Oct 2023) EllapsedTime: 33.1 seconds RetCode: 0 Status: OK