Package: TDbasedUFEadv Version: 1.0.0 Command: chmod a+r TDbasedUFEadv -R && F:\biocbuild\bbs-3.17-bioc\R\bin\R.exe CMD build --keep-empty-dirs --no-resave-data TDbasedUFEadv StartedAt: 2023-10-15 22:49:14 -0400 (Sun, 15 Oct 2023) EndedAt: 2023-10-15 22:52:21 -0400 (Sun, 15 Oct 2023) EllapsedTime: 187.7 seconds RetCode: 0 Status: OK PackageFile: TDbasedUFEadv_1.0.0.tar.gz PackageFileSize: 2.579 MiB