Package: TDbasedUFEadv Version: 1.0.0 Command: /home/biocbuild/bbs-3.17-bioc/R/bin/R CMD build --keep-empty-dirs --no-resave-data TDbasedUFEadv StartedAt: 2023-10-15 18:47:06 -0400 (Sun, 15 Oct 2023) EndedAt: 2023-10-15 18:50:11 -0400 (Sun, 15 Oct 2023) EllapsedTime: 184.8 seconds RetCode: 0 Status: OK PackageFile: TDbasedUFEadv_1.0.0.tar.gz PackageFileSize: 3.506 MiB