Package: SubCellBarCode Version: 1.16.0 Command: /Library/Frameworks/R.framework/Resources/bin/R CMD INSTALL SubCellBarCode StartedAt: 2023-10-15 16:11:12 -0400 (Sun, 15 Oct 2023) EndedAt: 2023-10-15 16:12:28 -0400 (Sun, 15 Oct 2023) EllapsedTime: 76.6 seconds RetCode: 0 Status: OK