Package: SpliceWiz Version: 1.2.3 Command: chmod a+r SpliceWiz -R && F:\biocbuild\bbs-3.17-bioc\R\bin\R.exe CMD build --keep-empty-dirs --no-resave-data SpliceWiz StartedAt: 2023-10-15 22:36:20 -0400 (Sun, 15 Oct 2023) EndedAt: 2023-10-15 22:43:19 -0400 (Sun, 15 Oct 2023) EllapsedTime: 419.5 seconds RetCode: 0 Status: OK PackageFile: SpliceWiz_1.2.3.tar.gz PackageFileSize: 3.878 MiB