Package: SpidermiR Version: 1.30.0 Command: F:\biocbuild\bbs-3.17-bioc\R\bin\R.exe CMD INSTALL SpidermiR StartedAt: 2023-10-15 16:09:36 -0400 (Sun, 15 Oct 2023) EndedAt: 2023-10-15 16:09:56 -0400 (Sun, 15 Oct 2023) EllapsedTime: 19.6 seconds RetCode: 0 Status: OK