Package: SpidermiR Version: 1.30.0 Command: rm -rf SpidermiR.buildbin-libdir && mkdir SpidermiR.buildbin-libdir && F:\biocbuild\bbs-3.17-bioc\R\bin\R.exe CMD INSTALL --build --library=SpidermiR.buildbin-libdir SpidermiR_1.30.0.tar.gz StartedAt: 2023-10-16 09:35:41 -0400 (Mon, 16 Oct 2023) EndedAt: 2023-10-16 09:36:06 -0400 (Mon, 16 Oct 2023) EllapsedTime: 24.5 seconds RetCode: 0 Status: OK PackageFile: SpidermiR_1.30.0.zip PackageFileSize: 57.96 KiB