Package: SpectralTAD Version: 1.16.1 Command: F:\biocbuild\bbs-3.17-bioc\R\bin\R.exe CMD INSTALL SpectralTAD StartedAt: 2023-10-15 16:06:26 -0400 (Sun, 15 Oct 2023) EndedAt: 2023-10-15 16:06:42 -0400 (Sun, 15 Oct 2023) EllapsedTime: 16.3 seconds RetCode: 0 Status: OK