Package: SimFFPE Version: 1.12.0 Command: /home/biocbuild/bbs-3.17-bioc/R/bin/R CMD check --install=check:SimFFPE.install-out.txt --library=/home/biocbuild/bbs-3.17-bioc/R/site-library --timings SimFFPE_1.12.0.tar.gz StartedAt: 2023-10-16 01:08:39 -0400 (Mon, 16 Oct 2023) EndedAt: 2023-10-16 01:15:45 -0400 (Mon, 16 Oct 2023) EllapsedTime: 426.2 seconds RetCode: 0 Status: OK CheckDir: SimFFPE.Rcheck Warnings: 0