Package: SiPSiC Version: 1.0.2 Command: F:\biocbuild\bbs-3.17-bioc\R\bin\R.exe CMD INSTALL SiPSiC StartedAt: 2023-10-15 15:58:42 -0400 (Sun, 15 Oct 2023) EndedAt: 2023-10-15 15:59:08 -0400 (Sun, 15 Oct 2023) EllapsedTime: 26.1 seconds RetCode: 0 Status: OK