Package: SiPSiC Version: 1.0.2 Command: chmod a+r SiPSiC -R && F:\biocbuild\bbs-3.17-bioc\R\bin\R.exe CMD build --keep-empty-dirs --no-resave-data SiPSiC StartedAt: 2023-10-15 22:27:13 -0400 (Sun, 15 Oct 2023) EndedAt: 2023-10-15 22:27:46 -0400 (Sun, 15 Oct 2023) EllapsedTime: 33.1 seconds RetCode: 0 Status: OK PackageFile: SiPSiC_1.0.2.tar.gz PackageFileSize: 236.2 KiB