Package: SiPSiC Version: 1.0.2 Command: rm -rf SiPSiC.buildbin-libdir && mkdir SiPSiC.buildbin-libdir && F:\biocbuild\bbs-3.17-bioc\R\bin\R.exe CMD INSTALL --build --library=SiPSiC.buildbin-libdir SiPSiC_1.0.2.tar.gz StartedAt: 2023-10-16 09:33:20 -0400 (Mon, 16 Oct 2023) EndedAt: 2023-10-16 09:33:46 -0400 (Mon, 16 Oct 2023) EllapsedTime: 25.8 seconds RetCode: 0 Status: OK PackageFile: SiPSiC_1.0.2.zip PackageFileSize: 250.6 KiB