Package: SiPSiC Version: 1.0.2 Command: /home/biocbuild/bbs-3.17-bioc/R/bin/R CMD INSTALL SiPSiC StartedAt: 2023-10-15 15:12:33 -0400 (Sun, 15 Oct 2023) EndedAt: 2023-10-15 15:12:58 -0400 (Sun, 15 Oct 2023) EllapsedTime: 25.0 seconds RetCode: 0 Status: OK