Package: SiPSiC Version: 1.0.2 Command: /home/biocbuild/bbs-3.17-bioc/R/bin/R CMD build --keep-empty-dirs --no-resave-data SiPSiC StartedAt: 2023-10-15 18:34:53 -0400 (Sun, 15 Oct 2023) EndedAt: 2023-10-15 18:35:24 -0400 (Sun, 15 Oct 2023) EllapsedTime: 30.2 seconds RetCode: 0 Status: OK PackageFile: SiPSiC_1.0.2.tar.gz PackageFileSize: 236.2 KiB