Package: SiPSiC Version: 1.0.2 Command: /Library/Frameworks/R.framework/Resources/bin/R CMD INSTALL SiPSiC StartedAt: 2023-10-15 15:17:36 -0400 (Sun, 15 Oct 2023) EndedAt: 2023-10-15 15:18:48 -0400 (Sun, 15 Oct 2023) EllapsedTime: 72.4 seconds RetCode: 0 Status: OK