Package: SiPSiC Version: 1.0.2 Command: /Library/Frameworks/R.framework/Resources/bin/R CMD check --install=check:SiPSiC.install-out.txt --library=/Library/Frameworks/R.framework/Resources/library --no-vignettes --timings SiPSiC_1.0.2.tar.gz StartedAt: 2023-10-16 07:14:31 -0400 (Mon, 16 Oct 2023) EndedAt: 2023-10-16 07:20:11 -0400 (Mon, 16 Oct 2023) EllapsedTime: 340.3 seconds RetCode: 0 Status: OK CheckDir: SiPSiC.Rcheck Warnings: 0