Package: SiPSiC Version: 1.0.2 Command: rm -rf SiPSiC.buildbin-libdir && mkdir SiPSiC.buildbin-libdir && /Users/biocbuild/BBS/utils/build-universal.sh SiPSiC_1.0.2.tar.gz /Library/Frameworks/R.framework/Resources/bin/R SiPSiC.buildbin-libdir StartedAt: 2023-10-16 10:14:58 -0400 (Mon, 16 Oct 2023) EndedAt: 2023-10-16 10:16:03 -0400 (Mon, 16 Oct 2023) EllapsedTime: 65.2 seconds RetCode: 0 Status: OK PackageFile: SiPSiC_1.0.2.tgz PackageFileSize: 246.3 KiB