Package: SeqSQC Version: 1.22.0 Command: /Library/Frameworks/R.framework/Resources/bin/R CMD build --keep-empty-dirs --no-resave-data SeqSQC StartedAt: 2023-10-15 21:16:24 -0400 (Sun, 15 Oct 2023) EndedAt: 2023-10-15 21:19:05 -0400 (Sun, 15 Oct 2023) EllapsedTime: 161.9 seconds RetCode: 0 Status: OK PackageFile: SeqSQC_1.22.0.tar.gz PackageFileSize: 3.588 MiB