Package: SemDist Version: 1.34.0 Command: rm -rf SemDist.buildbin-libdir && mkdir SemDist.buildbin-libdir && F:\biocbuild\bbs-3.17-bioc\R\bin\R.exe CMD INSTALL --build --library=SemDist.buildbin-libdir SemDist_1.34.0.tar.gz StartedAt: 2023-10-16 09:31:07 -0400 (Mon, 16 Oct 2023) EndedAt: 2023-10-16 09:31:27 -0400 (Mon, 16 Oct 2023) EllapsedTime: 19.2 seconds RetCode: 0 Status: OK PackageFile: SemDist_1.34.0.zip PackageFileSize: 1.918 MiB