Package: ScreenR Version: 1.2.0 Command: /Library/Frameworks/R.framework/Resources/bin/R CMD build --keep-empty-dirs --no-resave-data ScreenR StartedAt: 2023-10-15 21:08:39 -0400 (Sun, 15 Oct 2023) EndedAt: 2023-10-15 21:12:51 -0400 (Sun, 15 Oct 2023) EllapsedTime: 251.8 seconds RetCode: 0 Status: OK PackageFile: ScreenR_1.2.0.tar.gz PackageFileSize: 1.859 MiB