Package: ScreenR Version: 1.2.0 Command: rm -rf ScreenR.buildbin-libdir && mkdir ScreenR.buildbin-libdir && /Users/biocbuild/BBS/utils/build-universal.sh ScreenR_1.2.0.tar.gz /Library/Frameworks/R.framework/Resources/bin/R ScreenR.buildbin-libdir StartedAt: 2023-10-16 10:11:13 -0400 (Mon, 16 Oct 2023) EndedAt: 2023-10-16 10:11:38 -0400 (Mon, 16 Oct 2023) EllapsedTime: 24.9 seconds RetCode: 0 Status: OK PackageFile: ScreenR_1.2.0.tgz PackageFileSize: 2.033 MiB