Package: SamSPECTRAL Version: 1.54.0 Command: /Library/Frameworks/R.framework/Resources/bin/R CMD build --keep-empty-dirs --no-resave-data SamSPECTRAL StartedAt: 2023-10-15 20:55:27 -0400 (Sun, 15 Oct 2023) EndedAt: 2023-10-15 20:57:16 -0400 (Sun, 15 Oct 2023) EllapsedTime: 108.6 seconds RetCode: 0 Status: OK PackageFile: SamSPECTRAL_1.54.0.tar.gz PackageFileSize: 936.5 KiB