Package: STROMA4 Version: 1.24.0 Command: /home/biocbuild/bbs-3.17-bioc/R/bin/R CMD INSTALL STROMA4 StartedAt: 2023-10-15 15:16:09 -0400 (Sun, 15 Oct 2023) EndedAt: 2023-10-15 15:16:14 -0400 (Sun, 15 Oct 2023) EllapsedTime: 4.2 seconds RetCode: 0 Status: OK