Package: STROMA4 Version: 1.24.0 Command: /home/biocbuild/bbs-3.17-bioc/R/bin/R CMD check --install=check:STROMA4.install-out.txt --library=/home/biocbuild/bbs-3.17-bioc/R/site-library --timings STROMA4_1.24.0.tar.gz StartedAt: 2023-10-16 01:32:44 -0400 (Mon, 16 Oct 2023) EndedAt: 2023-10-16 01:33:46 -0400 (Mon, 16 Oct 2023) EllapsedTime: 61.6 seconds RetCode: 1 Status: ERROR CheckDir: STROMA4.Rcheck Warnings: NA