Package: STROMA4 Version: 1.24.0 Command: /home/biocbuild/bbs-3.17-bioc/R/bin/R CMD build --keep-empty-dirs --no-resave-data STROMA4 StartedAt: 2023-10-15 18:43:28 -0400 (Sun, 15 Oct 2023) EndedAt: 2023-10-15 18:43:44 -0400 (Sun, 15 Oct 2023) EllapsedTime: 15.9 seconds RetCode: 0 Status: OK PackageFile: STROMA4_1.24.0.tar.gz PackageFileSize: 107.9 KiB