Package: SPsimSeq Version: 1.10.0 Command: rm -rf SPsimSeq.buildbin-libdir && mkdir SPsimSeq.buildbin-libdir && /Users/biocbuild/BBS/utils/build-universal.sh SPsimSeq_1.10.0.tar.gz /Library/Frameworks/R.framework/Resources/bin/R SPsimSeq.buildbin-libdir StartedAt: 2023-10-16 10:17:56 -0400 (Mon, 16 Oct 2023) EndedAt: 2023-10-16 10:19:48 -0400 (Mon, 16 Oct 2023) EllapsedTime: 111.6 seconds RetCode: 0 Status: OK PackageFile: SPsimSeq_1.10.0.tgz PackageFileSize: 908.6 KiB