Package: SPOTlight Version: 1.4.1 Command: /home/biocbuild/bbs-3.17-bioc/R/bin/R CMD check --install=check:SPOTlight.install-out.txt --library=/home/biocbuild/bbs-3.17-bioc/R/site-library --timings SPOTlight_1.4.1.tar.gz StartedAt: 2023-10-16 01:25:01 -0400 (Mon, 16 Oct 2023) EndedAt: 2023-10-16 01:32:24 -0400 (Mon, 16 Oct 2023) EllapsedTime: 443.0 seconds RetCode: 0 Status: OK CheckDir: SPOTlight.Rcheck Warnings: 0