Package: SPONGE Version: 1.22.0 Command: F:\biocbuild\bbs-3.17-bioc\R\bin\R.exe CMD INSTALL SPONGE StartedAt: 2023-10-15 17:00:02 -0400 (Sun, 15 Oct 2023) EndedAt: 2023-10-15 17:01:28 -0400 (Sun, 15 Oct 2023) EllapsedTime: 86.4 seconds RetCode: 0 Status: OK