Package: SPONGE Version: 1.22.0 Command: chmod a+r SPONGE -R && F:\biocbuild\bbs-3.17-bioc\R\bin\R.exe CMD build --keep-empty-dirs --no-resave-data SPONGE StartedAt: 2023-10-15 22:37:19 -0400 (Sun, 15 Oct 2023) EndedAt: 2023-10-15 22:40:32 -0400 (Sun, 15 Oct 2023) EllapsedTime: 193.5 seconds RetCode: 0 Status: OK PackageFile: SPONGE_1.22.0.tar.gz PackageFileSize: 8.665 MiB