Package: SPONGE Version: 1.22.0 Command: /Library/Frameworks/R.framework/Resources/bin/R CMD INSTALL SPONGE StartedAt: 2023-10-15 16:26:27 -0400 (Sun, 15 Oct 2023) EndedAt: 2023-10-15 16:29:43 -0400 (Sun, 15 Oct 2023) EllapsedTime: 196.5 seconds RetCode: 0 Status: OK