Package: SOMNiBUS Version: 1.8.0 Command: /home/biocbuild/bbs-3.17-bioc/R/bin/R CMD build --keep-empty-dirs --no-resave-data SOMNiBUS StartedAt: 2023-10-15 18:36:30 -0400 (Sun, 15 Oct 2023) EndedAt: 2023-10-15 18:40:42 -0400 (Sun, 15 Oct 2023) EllapsedTime: 251.8 seconds RetCode: 0 Status: OK PackageFile: SOMNiBUS_1.8.0.tar.gz PackageFileSize: 1.418 MiB