Package: SMITE Version: 1.28.0 Command: F:\biocbuild\bbs-3.17-bioc\R\bin\R.exe CMD check --no-multiarch --install=check:SMITE.install-out.txt --library=F:\biocbuild\bbs-3.17-bioc\R\library --no-vignettes --timings SMITE_1.28.0.tar.gz StartedAt: 2023-10-16 07:00:36 -0400 (Mon, 16 Oct 2023) EndedAt: 2023-10-16 07:05:15 -0400 (Mon, 16 Oct 2023) EllapsedTime: 279.5 seconds RetCode: 0 Status: OK CheckDir: SMITE.Rcheck Warnings: 0