Package: SMAP Version: 1.64.0 Command: /home/biocbuild/bbs-3.17-bioc/R/bin/R CMD build --keep-empty-dirs --no-resave-data SMAP StartedAt: 2023-10-15 18:35:35 -0400 (Sun, 15 Oct 2023) EndedAt: 2023-10-15 18:35:51 -0400 (Sun, 15 Oct 2023) EllapsedTime: 15.6 seconds RetCode: 0 Status: OK PackageFile: SMAP_1.64.0.tar.gz PackageFileSize: 4.248 MiB