Package: SIMD Version: 1.18.0 Command: /Library/Frameworks/R.framework/Resources/bin/R CMD INSTALL SIMD StartedAt: 2023-10-15 15:18:43 -0400 (Sun, 15 Oct 2023) EndedAt: 2023-10-15 15:19:14 -0400 (Sun, 15 Oct 2023) EllapsedTime: 30.9 seconds RetCode: 0 Status: OK