Package: SEtools Version: 1.14.0 Command: /Library/Frameworks/R.framework/Resources/bin/R CMD check --install=check:SEtools.install-out.txt --library=/Library/Frameworks/R.framework/Resources/library --no-vignettes --timings SEtools_1.14.0.tar.gz StartedAt: 2023-10-16 07:02:41 -0400 (Mon, 16 Oct 2023) EndedAt: 2023-10-16 07:11:20 -0400 (Mon, 16 Oct 2023) EllapsedTime: 518.5 seconds RetCode: 0 Status: OK CheckDir: SEtools.Rcheck Warnings: 0