Package: SCOPE Version: 1.12.0 Command: rm -rf SCOPE.buildbin-libdir && mkdir SCOPE.buildbin-libdir && /Users/biocbuild/BBS/utils/build-universal.sh SCOPE_1.12.0.tar.gz /Library/Frameworks/R.framework/Resources/bin/R SCOPE.buildbin-libdir StartedAt: 2023-10-16 10:10:24 -0400 (Mon, 16 Oct 2023) EndedAt: 2023-10-16 10:12:18 -0400 (Mon, 16 Oct 2023) EllapsedTime: 113.3 seconds RetCode: 0 Status: OK PackageFile: SCOPE_1.12.0.tgz PackageFileSize: 585.4 KiB