Package: RiboDiPA Version: 1.8.0 Command: /home/biocbuild/bbs-3.17-bioc/R/bin/R CMD build --keep-empty-dirs --no-resave-data RiboDiPA StartedAt: 2023-10-15 18:12:29 -0400 (Sun, 15 Oct 2023) EndedAt: 2023-10-15 18:18:18 -0400 (Sun, 15 Oct 2023) EllapsedTime: 348.5 seconds RetCode: 0 Status: OK PackageFile: RiboDiPA_1.8.0.tar.gz PackageFileSize: 1.651 MiB