Package: RiboDiPA Version: 1.8.0 Command: rm -rf RiboDiPA.buildbin-libdir && mkdir RiboDiPA.buildbin-libdir && /Users/biocbuild/BBS/utils/build-universal.sh RiboDiPA_1.8.0.tar.gz /Library/Frameworks/R.framework/Resources/bin/R RiboDiPA.buildbin-libdir StartedAt: 2023-10-16 10:03:29 -0400 (Mon, 16 Oct 2023) EndedAt: 2023-10-16 10:06:26 -0400 (Mon, 16 Oct 2023) EllapsedTime: 177.0 seconds RetCode: 0 Status: OK PackageFile: RiboDiPA_1.8.0.tgz PackageFileSize: 1.469 MiB