Package: RiboCrypt Version: 1.6.0 Command: /Library/Frameworks/R.framework/Resources/bin/R CMD INSTALL RiboCrypt StartedAt: 2023-10-15 16:26:30 -0400 (Sun, 15 Oct 2023) EndedAt: 2023-10-15 16:28:45 -0400 (Sun, 15 Oct 2023) EllapsedTime: 134.8 seconds RetCode: 0 Status: OK