Package: ResidualMatrix Version: 1.10.0 Command: /home/biocbuild/bbs-3.17-bioc/R/bin/R CMD check --install=check:ResidualMatrix.install-out.txt --library=/home/biocbuild/bbs-3.17-bioc/R/site-library --timings ResidualMatrix_1.10.0.tar.gz StartedAt: 2023-10-16 00:21:43 -0400 (Mon, 16 Oct 2023) EndedAt: 2023-10-16 00:24:48 -0400 (Mon, 16 Oct 2023) EllapsedTime: 185.2 seconds RetCode: 0 Status: OK CheckDir: ResidualMatrix.Rcheck Warnings: 0