Package: ResidualMatrix Version: 1.10.0 Command: /Library/Frameworks/R.framework/Resources/bin/R CMD check --install=check:ResidualMatrix.install-out.txt --library=/Library/Frameworks/R.framework/Resources/library --no-vignettes --timings ResidualMatrix_1.10.0.tar.gz StartedAt: 2023-10-16 05:57:21 -0400 (Mon, 16 Oct 2023) EndedAt: 2023-10-16 06:04:58 -0400 (Mon, 16 Oct 2023) EllapsedTime: 457.4 seconds RetCode: 0 Status: OK CheckDir: ResidualMatrix.Rcheck Warnings: 0