Package: ReportingTools Version: 2.40.0 Command: /Library/Frameworks/R.framework/Resources/bin/R CMD build --keep-empty-dirs --no-resave-data ReportingTools StartedAt: 2023-10-15 20:38:11 -0400 (Sun, 15 Oct 2023) EndedAt: 2023-10-15 20:41:29 -0400 (Sun, 15 Oct 2023) EllapsedTime: 197.4 seconds RetCode: 1 Status: ERROR PackageFile: None PackageFileSize: NA